BEGIN:VCALENDAR
VERSION:2.0
PRODID:-//Town of Elgin, South Carolina - ECPv6.15.11//NONSGML v1.0//EN
CALSCALE:GREGORIAN
METHOD:PUBLISH
X-WR-CALNAME:Town of Elgin, South Carolina
X-ORIGINAL-URL:https://townofelginsc.com
X-WR-CALDESC:Events for Town of Elgin, South Carolina
REFRESH-INTERVAL;VALUE=DURATION:PT1H
X-Robots-Tag:noindex
X-PUBLISHED-TTL:PT1H
BEGIN:VTIMEZONE
TZID:America/New_York
BEGIN:DAYLIGHT
TZOFFSETFROM:-0500
TZOFFSETTO:-0400
TZNAME:EDT
DTSTART:20250309T070000
END:DAYLIGHT
BEGIN:STANDARD
TZOFFSETFROM:-0400
TZOFFSETTO:-0500
TZNAME:EST
DTSTART:20251102T060000
END:STANDARD
BEGIN:DAYLIGHT
TZOFFSETFROM:-0500
TZOFFSETTO:-0400
TZNAME:EDT
DTSTART:20260308T070000
END:DAYLIGHT
BEGIN:STANDARD
TZOFFSETFROM:-0400
TZOFFSETTO:-0500
TZNAME:EST
DTSTART:20261101T060000
END:STANDARD
BEGIN:DAYLIGHT
TZOFFSETFROM:-0500
TZOFFSETTO:-0400
TZNAME:EDT
DTSTART:20270314T070000
END:DAYLIGHT
BEGIN:STANDARD
TZOFFSETFROM:-0400
TZOFFSETTO:-0500
TZNAME:EST
DTSTART:20271107T060000
END:STANDARD
END:VTIMEZONE
BEGIN:VEVENT
DTSTART;TZID=America/New_York:20260609T180000
DTEND;TZID=America/New_York:20260609T190000
DTSTAMP:20260423T082921
CREATED:20260421T183940Z
LAST-MODIFIED:20260421T183940Z
UID:112968-1781028000-1781031600@townofelginsc.com
SUMMARY:Town of Elgin Zoning Board Of Appeals Meeting
DESCRIPTION:Share
URL:https://townofelginsc.com/event/town-of-elgin-zoning-board-of-appeals-meeting/
LOCATION:Elgin Town Hall\, 2649 Main Street\, Elgin\, SC\, 29045\, United States
CATEGORIES:Town Events
ATTACH;FMTTYPE=image/png:https://townofelginsc.com/wp-content/uploads/2026/04/Board-of-Appeals-meeting-6.png
END:VEVENT
END:VCALENDAR